BEGIN:VCALENDAR
VERSION:2.0
PRODID:-//wp-events-plugin.com//6.6.4.4//EN
TZID:America/Toronto
X-WR-TIMEZONE:America/Toronto
BEGIN:VEVENT
UID:5@coht.ca
DTSTART;TZID=America/Toronto:20250521T093000
DTEND;TZID=America/Toronto:20250521T153000
DTSTAMP:20250516T170305Z
URL:https://coht.ca/events/cervical-cancer-screening-for-unattached-patien
 ts-2025-05-21/
SUMMARY:Cervical Cancer Screening for Unattached Patients
DESCRIPTION:Do you live in Couchiching and:\n- Don’t have a primary care 
 provider?\n- Are due for an HPV test?\n- Are over the age of 25?\n\nBook n
 ow!\n\nAn HPV test is recommended every 5 years for anyone with a cervix w
 ho is 25 years and older that has been sexually active. Ask us about a mam
 mogram while you’re here! Call to book with one of our Nurse Practitione
 rs! \n\n705-329-3649 ext. 231 - call to book!\nCOHT Unattached Clinic\nCo
 uchiching Family Health Team\, 119 Memorial Ave.\, Suite 103
ATTACH;FMTTYPE=image/jpeg:https://coht.ca/uploads/2025/05/General-Cervical
 -Cancer-Screening-Real-Estate-Flyer.jpg
CATEGORIES:General
LOCATION:https://google.ca
END:VEVENT
BEGIN:VTIMEZONE
TZID:America/Toronto
X-LIC-LOCATION:America/Toronto
BEGIN:DAYLIGHT
DTSTART:20250309T030000
TZOFFSETFROM:-0500
TZOFFSETTO:-0400
TZNAME:EDT
END:DAYLIGHT
END:VTIMEZONE
END:VCALENDAR